BEGIN:VCALENDAR
PRODID:-//eluceo/ical//2.0/EN
VERSION:2.0
CALSCALE:GREGORIAN
BEGIN:VEVENT
UID:84496524879e727a2ad49ed48eafb952
DTSTAMP:20260424T095704Z
SUMMARY:Veckomöte - Välgörenhetslotteri samt Mini-EGO med Stefan Olsson
DESCRIPTION:
URL:https://boras-viskan.rotaryklubb.org/en/agenda/show/213669
DTSTART;TZID=Europe/Zurich:20260626T071500
DTEND;TZID=Europe/Zurich:20260626T083000
LOCATION:Yxhammargården\, Yxhammarsgatan 29\, 50331 Borås\, Sverige
CATEGORIES:Rotary
END:VEVENT
BEGIN:VTIMEZONE
TZID:Europe/Zurich
BEGIN:DAYLIGHT
DTSTART:20260626T071500
TZNAME:CEST
TZOFFSETTO:+0200
TZOFFSETFROM:+0200
END:DAYLIGHT
END:VTIMEZONE
END:VCALENDAR
